BEGIN:VCALENDAR
PRODID:-//AT Content Types//AT Event//EN
VERSION:2.0
METHOD:PUBLISH
BEGIN:VEVENT
DTSTAMP:20260420T115011Z
CREATED:20200511T182902Z
UID:ATEvent-21e20331-b81e-43bf-8423-adcf3dea382c
LAST-MODIFIED:20200511T182917Z
SUMMARY:COVID-19 in Adult Populations with Case Presentations
DTSTART:20200513T223000Z
DTEND:20200513T233000Z
DESCRIPTION:May 13 @ 5:30 pm - 6:30 pm
CLASS:PUBLIC
END:VEVENT
END:VCALENDAR
