BEGIN:VCALENDAR
PRODID:-//AT Content Types//AT Event//EN
VERSION:1.0
BEGIN:VEVENT
DTSTART:20120614T120000Z
DTEND:20120615T174500Z
DCREATED:20120509T211823Z
UID:ATEvent-04a45b03-fcbf-4669-b39d-b6766a9b34af
SEQUENCE:0
LAST-MODIFIED:20120515T161500Z
SUMMARY:Summer MCC: Physician-Legal Issues Conference
DESCRIPTION:June 14 - 15\, 2012 @ Radisson Blu Aqua Hotel
LOCATION:Radisson Blu Aqua Hotel 221 Columbus Drive Chicago\, IL
PRIORITY:3
TRANSP:0
END:VEVENT
END:VCALENDAR
